BEGIN:VCALENDAR
PRODID:-//Cornell Cooperative Extension of Albany County//NONSGML Cornell Cooperative Extension of Albany County Events//EN
X-ORIGINAL-URL:
VERSION:2.0
CALSCALE:GREGORIAN
METHOD:PUBLISH
BEGIN:VEVENT
METHOD: PUBLISH
X-MS-OLK-FORCEINSPECTOROPEN:TRUE
DTSTART:20260507T180600
DTEND:20260507T190700
SUMMARY:4-H Spring Archery Series
DTSTAMP:20110121T170000
LAST-MODIFIED:20260423T130132
CREATED:20260423T130132
SEQUENCE:0
TRANSP:TRANSPARENT
UID:32983
LOCATION:
URL:http://albany.cce.cornell.edu/events/2026/05/07/4-h-spring-archery-series
DESCRIPTION:Join 4-H educators and volunteers for a basic archery series! Learn and practice the basics of archery with an emphasis on safety and recreation. All equipment will be provided!  The program is for children 10-18 years old. Please register each child separately.
CLASS:PUBLIC
CATEGORIES:
STATUS:CONFIRMED
END:VEVENT
END:VCALENDAR
n/a